BEGIN:VCALENDAR
PRODID:NingEventWidget-v1
VERSION:2.0
METHOD:PUBLISH
BEGIN:VEVENT
UID:2870411:Event:1322
DTSTAMP:20260421T031430Z
SUMMARY:Buddy Mondlock at Wiffledust
DESCRIPTION:intimate gathering of music lovers to hear buddy mondlock 
 and particpate in a special taping for WIFF wiffledust web radio!\n\nF
 or more information visit http://worldofwiffledust.com/events/buddy-mo
 ndlock-at-wiffledust
DTSTART:20090926T233000Z
DTEND:20090927T013000Z
CATEGORIES:wiffledust, performance
LOCATION:Wiffledust...email for more info
WEBSITE:
URL:
CONTACT:
ORGANIZER;CN=wiffledust:http://worldofwiffledust.com/profile/wiffledus
 t
ATTACH;FMTTYPE="image/jpeg":
ATTENDEE;ROLE=REQ-PARTICIPANT;PARTSTAT=ACCEPTED;RSVP=TRUE;CN=wiffledus
 t:http://worldofwiffledust.com/profile/wiffledust
END:VEVENT
END:VCALENDAR
