BEGIN:VCALENDAR
PRODID:NingEventWidget-v1
VERSION:2.0
METHOD:PUBLISH
BEGIN:VEVENT
UID:2870411:Event:381
DTSTAMP:20260421T062943Z
SUMMARY:Anna Banana Shortcake
DESCRIPTION:Anna will perform for Barack Obama.\n\nFor more informatio
 n visit http://worldofwiffledust.com/events/anna-banana-shortcake
DTSTART:20090416T220000Z
DTEND:20090417T030000Z
CATEGORIES:political, fundraiser
LOCATION:The White House
WEBSITE:
URL:
CONTACT:
ORGANIZER;CN=wiffledust:http://worldofwiffledust.com/profile/wiffledus
 t
ATTACH;FMTTYPE="image/jpeg":
ATTENDEE;ROLE=REQ-PARTICIPANT;PARTSTAT=ACCEPTED;RSVP=TRUE;CN=wiffledus
 t:http://worldofwiffledust.com/profile/wiffledust
END:VEVENT
END:VCALENDAR
