BEGIN:VCALENDAR
PRODID:NingEventWidget-v1
VERSION:2.0
METHOD:PUBLISH
BEGIN:VEVENT
UID:2870411:Event:127
DTSTAMP:20260421T075332Z
SUMMARY:lisa
DESCRIPTION:lisa performs with bono, springsteen, and barack obama in 
 a casual atmostphere at the white house!\n\nFor more information visit
  http://worldofwiffledust.com/events/2870411:Event:127
DTSTART:20090308T220000Z
DTEND:20090308T230000Z
CATEGORIES:performance
LOCATION:the white house
WEBSITE:
URL:
CONTACT:111-111-1111
ORGANIZER:
ATTACH;FMTTYPE="image/jpeg":http://storage.ning.com/topology/rest/1.0/
 file/get/1083755456?profile=original
ATTENDEE;ROLE=REQ-PARTICIPANT;PARTSTAT=ACCEPTED;RSVP=TRUE;CN=wiffledus
 t:http://worldofwiffledust.com/profile/wiffledust
END:VEVENT
END:VCALENDAR
